BEGIN:VCALENDAR
VERSION:2.0
PRODID:-//DPSG St. Johannes Rosbacher Pfadfinder - ECPv6.15.20//NONSGML v1.0//EN
CALSCALE:GREGORIAN
METHOD:PUBLISH
X-ORIGINAL-URL:https://dpsg-rosbach.de/wp
X-WR-CALDESC:Veranstaltungen für DPSG St. Johannes Rosbacher Pfadfinder
REFRESH-INTERVAL;VALUE=DURATION:PT1H
X-Robots-Tag:noindex
X-PUBLISHED-TTL:PT1H
BEGIN:VTIMEZONE
TZID:Europe/Paris
BEGIN:DAYLIGHT
TZOFFSETFROM:+0100
TZOFFSETTO:+0200
TZNAME:CEST
DTSTART:20220327T010000
END:DAYLIGHT
BEGIN:STANDARD
TZOFFSETFROM:+0200
TZOFFSETTO:+0100
TZNAME:CET
DTSTART:20221030T010000
END:STANDARD
BEGIN:DAYLIGHT
TZOFFSETFROM:+0100
TZOFFSETTO:+0200
TZNAME:CEST
DTSTART:20230326T010000
END:DAYLIGHT
BEGIN:STANDARD
TZOFFSETFROM:+0200
TZOFFSETTO:+0100
TZNAME:CET
DTSTART:20231029T010000
END:STANDARD
BEGIN:DAYLIGHT
TZOFFSETFROM:+0100
TZOFFSETTO:+0200
TZNAME:CEST
DTSTART:20240331T010000
END:DAYLIGHT
BEGIN:STANDARD
TZOFFSETFROM:+0200
TZOFFSETTO:+0100
TZNAME:CET
DTSTART:20241027T010000
END:STANDARD
END:VTIMEZONE
BEGIN:VEVENT
DTSTART;VALUE=DATE:20230915
DTEND;VALUE=DATE:20230918
DTSTAMP:20260424T104918
CREATED:20230811T144446Z
LAST-MODIFIED:20230811T144446Z
UID:2381-1694736000-1694995199@dpsg-rosbach.de
SUMMARY:Holzmachwochenende
DESCRIPTION:
URL:https://dpsg-rosbach.de/wp/event/holzmachwochenende/
CATEGORIES:Rover
END:VEVENT
BEGIN:VEVENT
DTSTART;TZID=Europe/Paris:20230922T000000
DTEND;TZID=Europe/Paris:20230924T000000
DTSTAMP:20260424T104918
CREATED:20230711T110257Z
LAST-MODIFIED:20230711T110257Z
UID:2360-1695340800-1695513600@dpsg-rosbach.de
SUMMARY:Stammeszelten
DESCRIPTION:in Marburg
URL:https://dpsg-rosbach.de/wp/event/stammeszelten-2/
CATEGORIES:Jungpfadfinder,Leiterrunde,Pfadfinder,Rover,Wölflinge
END:VEVENT
BEGIN:VEVENT
DTSTART;VALUE=DATE:20230929
DTEND;VALUE=DATE:20231004
DTSTAMP:20260424T104918
CREATED:20230227T200450Z
LAST-MODIFIED:20230227T200457Z
UID:2242-1695945600-1696377599@dpsg-rosbach.de
SUMMARY:Roverbezirkslager
DESCRIPTION:
URL:https://dpsg-rosbach.de/wp/event/roverbezirkslager/
LOCATION:DPSG Bundeszentrum Westernohe\, Zum Weitstein 50\, Westernohe\, Rheinland-Pfalz\, 56479\, Germany
CATEGORIES:Leiterrunde,Rover
END:VEVENT
END:VCALENDAR