BEGIN:VCALENDAR
VERSION:2.0
PRODID:-//DPSG St. Johannes Rosbacher Pfadfinder - ECPv6.15.20//NONSGML v1.0//EN
CALSCALE:GREGORIAN
METHOD:PUBLISH
X-ORIGINAL-URL:https://dpsg-rosbach.de/wp
X-WR-CALDESC:Veranstaltungen für DPSG St. Johannes Rosbacher Pfadfinder
REFRESH-INTERVAL;VALUE=DURATION:PT1H
X-Robots-Tag:noindex
X-PUBLISHED-TTL:PT1H
BEGIN:VTIMEZONE
TZID:Europe/Paris
BEGIN:DAYLIGHT
TZOFFSETFROM:+0100
TZOFFSETTO:+0200
TZNAME:CEST
DTSTART:20210328T010000
END:DAYLIGHT
BEGIN:STANDARD
TZOFFSETFROM:+0200
TZOFFSETTO:+0100
TZNAME:CET
DTSTART:20211031T010000
END:STANDARD
BEGIN:DAYLIGHT
TZOFFSETFROM:+0100
TZOFFSETTO:+0200
TZNAME:CEST
DTSTART:20220327T010000
END:DAYLIGHT
BEGIN:STANDARD
TZOFFSETFROM:+0200
TZOFFSETTO:+0100
TZNAME:CET
DTSTART:20221030T010000
END:STANDARD
BEGIN:DAYLIGHT
TZOFFSETFROM:+0100
TZOFFSETTO:+0200
TZNAME:CEST
DTSTART:20230326T010000
END:DAYLIGHT
BEGIN:STANDARD
TZOFFSETFROM:+0200
TZOFFSETTO:+0100
TZNAME:CET
DTSTART:20231029T010000
END:STANDARD
END:VTIMEZONE
BEGIN:VEVENT
DTSTART;VALUE=DATE:20220723
DTEND;VALUE=DATE:20220805
DTSTAMP:20260425T054359
CREATED:20211027T112534Z
LAST-MODIFIED:20220321T162836Z
UID:1124-1658534400-1659657599@dpsg-rosbach.de
SUMMARY:Jupfi/Pfadi-Sommerlager
DESCRIPTION:Pfadis und Jupfis fahren beide nach Dänemark und machen im Anschluss zum Festival ein kurzes gemeinsames Lager.
URL:https://dpsg-rosbach.de/wp/event/jupfi-sommerlager/
LOCATION:Hedeland Naturpark\, Tranemosevej 2\, Hedehusene\, 2640\, Denmark
END:VEVENT
BEGIN:VEVENT
DTSTART;VALUE=DATE:20220806
DTEND;VALUE=DATE:20220820
DTSTAMP:20260425T054359
CREATED:20220321T163825Z
LAST-MODIFIED:20220321T163825Z
UID:1720-1659744000-1660953599@dpsg-rosbach.de
SUMMARY:Rover Sommerlager
DESCRIPTION:
URL:https://dpsg-rosbach.de/wp/event/rover-sommerlager/
END:VEVENT
END:VCALENDAR