BEGIN:VCALENDAR
VERSION:2.0
PRODID:-//DPSG St. Johannes Rosbacher Pfadfinder - ECPv6.15.20//NONSGML v1.0//EN
CALSCALE:GREGORIAN
METHOD:PUBLISH
X-ORIGINAL-URL:https://dpsg-rosbach.de/wp
X-WR-CALDESC:Veranstaltungen für DPSG St. Johannes Rosbacher Pfadfinder
REFRESH-INTERVAL;VALUE=DURATION:PT1H
X-Robots-Tag:noindex
X-PUBLISHED-TTL:PT1H
BEGIN:VTIMEZONE
TZID:Europe/Paris
BEGIN:DAYLIGHT
TZOFFSETFROM:+0100
TZOFFSETTO:+0200
TZNAME:CEST
DTSTART:20220327T010000
END:DAYLIGHT
BEGIN:STANDARD
TZOFFSETFROM:+0200
TZOFFSETTO:+0100
TZNAME:CET
DTSTART:20221030T010000
END:STANDARD
BEGIN:DAYLIGHT
TZOFFSETFROM:+0100
TZOFFSETTO:+0200
TZNAME:CEST
DTSTART:20230326T010000
END:DAYLIGHT
BEGIN:STANDARD
TZOFFSETFROM:+0200
TZOFFSETTO:+0100
TZNAME:CET
DTSTART:20231029T010000
END:STANDARD
BEGIN:DAYLIGHT
TZOFFSETFROM:+0100
TZOFFSETTO:+0200
TZNAME:CEST
DTSTART:20240331T010000
END:DAYLIGHT
BEGIN:STANDARD
TZOFFSETFROM:+0200
TZOFFSETTO:+0100
TZNAME:CET
DTSTART:20241027T010000
END:STANDARD
END:VTIMEZONE
BEGIN:VEVENT
DTSTART;TZID=Europe/Paris:20230326T163000
DTEND;TZID=Europe/Paris:20230326T180000
DTSTAMP:20260424T204754
CREATED:20230227T200044Z
LAST-MODIFIED:20230227T200044Z
UID:2234-1679848200-1679853600@dpsg-rosbach.de
SUMMARY:Stammesversammlung
DESCRIPTION:
URL:https://dpsg-rosbach.de/wp/event/stammesversammlung/
LOCATION:St. Michael Kirche\, Weidenweg 9\,\, Rosbach vor der Höhe\, 61191\, Germany
CATEGORIES:Jungpfadfinder,Leiterrunde,Pfadfinder,Rover,Wölflinge
END:VEVENT
END:VCALENDAR