BEGIN:VCALENDAR
VERSION:2.0
PRODID:-//DPSG St. Johannes Rosbacher Pfadfinder - ECPv6.15.20//NONSGML v1.0//EN
CALSCALE:GREGORIAN
METHOD:PUBLISH
X-WR-CALNAME:DPSG St. Johannes Rosbacher Pfadfinder
X-ORIGINAL-URL:https://dpsg-rosbach.de/wp
X-WR-CALDESC:Veranstaltungen für DPSG St. Johannes Rosbacher Pfadfinder
REFRESH-INTERVAL;VALUE=DURATION:PT1H
X-Robots-Tag:noindex
X-PUBLISHED-TTL:PT1H
BEGIN:VTIMEZONE
TZID:Europe/Paris
BEGIN:DAYLIGHT
TZOFFSETFROM:+0100
TZOFFSETTO:+0200
TZNAME:CEST
DTSTART:20200329T010000
END:DAYLIGHT
BEGIN:STANDARD
TZOFFSETFROM:+0200
TZOFFSETTO:+0100
TZNAME:CET
DTSTART:20201025T010000
END:STANDARD
BEGIN:DAYLIGHT
TZOFFSETFROM:+0100
TZOFFSETTO:+0200
TZNAME:CEST
DTSTART:20210328T010000
END:DAYLIGHT
BEGIN:STANDARD
TZOFFSETFROM:+0200
TZOFFSETTO:+0100
TZNAME:CET
DTSTART:20211031T010000
END:STANDARD
BEGIN:DAYLIGHT
TZOFFSETFROM:+0100
TZOFFSETTO:+0200
TZNAME:CEST
DTSTART:20220327T010000
END:DAYLIGHT
BEGIN:STANDARD
TZOFFSETFROM:+0200
TZOFFSETTO:+0100
TZNAME:CET
DTSTART:20221030T010000
END:STANDARD
END:VTIMEZONE
BEGIN:VEVENT
DTSTART;TZID=Europe/Paris:20211005T193000
DTEND;TZID=Europe/Paris:20211005T220000
DTSTAMP:20260425T222627
CREATED:20210918T135634Z
LAST-MODIFIED:20210918T152444Z
UID:203-1633462200-1633471200@dpsg-rosbach.de
SUMMARY:Leiterrunde
DESCRIPTION:
URL:https://dpsg-rosbach.de/wp/event/leiterrunde/
LOCATION:St. Michael Kirche\, Weidenweg 9\,\, Rosbach vor der Höhe\, 61191\, Germany
END:VEVENT
END:VCALENDAR